BEGIN:VCALENDAR
VERSION:2.0
PRODID:-//Aswell Studio - ECPv6.7.0//NONSGML v1.0//EN
CALSCALE:GREGORIAN
METHOD:PUBLISH
X-WR-CALNAME:Aswell Studio
X-ORIGINAL-URL:https://aswellstudio.com
X-WR-CALDESC:Évènements pour Aswell Studio
REFRESH-INTERVAL;VALUE=DURATION:PT1H
X-Robots-Tag:noindex
X-PUBLISHED-TTL:PT1H
BEGIN:VTIMEZONE
TZID:Europe/Paris
BEGIN:DAYLIGHT
TZOFFSETFROM:+0100
TZOFFSETTO:+0200
TZNAME:CEST
DTSTART:20250330T010000
END:DAYLIGHT
BEGIN:STANDARD
TZOFFSETFROM:+0200
TZOFFSETTO:+0100
TZNAME:CET
DTSTART:20251026T010000
END:STANDARD
END:VTIMEZONE
BEGIN:VEVENT
DTSTART;VALUE=DATE:20250416
DTEND;VALUE=DATE:20250418
DTSTAMP:20260421T010238
CREATED:20250811T151855Z
LAST-MODIFIED:20250828T155707Z
UID:10000002-1744761600-1744934399@aswellstudio.com
SUMMARY:ISG MASTERS’ DAY 4.0
DESCRIPTION:The Masters’ Day 4.0 – Fier sponsor de l’événement organisé par ISG Financial Club\nChez Aswell Studio\, nous sommes fiers d’avoir été sponsor officiel de The Masters’ Day 4.0\, un événement exceptionnel organisé par ISG Financial Club à l’Institut Supérieur de Gestion de Tunis (ISGT). \nCette journée du 16 avril 2025 a rassemblé étudiants\, intervenants\, professionnels et passionnés autour d’un programme riche en conférences\, ateliers et moments d’échanges.L’objectif : créer un espace où l’apprentissage\, l’inspiration et les opportunités se rencontrent. \n\nNotre engagement\nSoutenir The Masters’ Day 4.0\, c’est pour nous investir dans l’avenir des talents et encourager les initiatives qui rapprochent le monde académique et professionnel.Nous croyons que de tels événements sont essentiels pour nourrir la curiosité\, stimuler l’innovation et renforcer les liens entre étudiants et experts. \n\nUne journée marquante\nGrâce à l’organisation impeccable d’ISG Financial Club\, les participants ont pu : \n\nDécouvrir des interventions inspirantes.\nParticiper à des ateliers interactifs.\nÉchanger avec des professionnels et créer des contacts précieux.\n\n\n📸 Retour en images\n  \n\nRegard vers l’avenir\nNous remercions chaleureusement ISG Financial Club pour cette collaboration et nous avons hâte de soutenir d’autres initiatives porteuses de valeur\, d’inspiration et d’impact positif. \n\nEvent QR code\n\n\n\nMots-clés\n#MastersDay #ISGFinancialClub #AswellStudio #Sponsor #Partenariat #Innovation #Apprentissage #Networking #Gratitude
URL:https://aswellstudio.com/event/isg-masters-day-4-0/
LOCATION:ISG Tunis\, Tunis\, Tunisia
CATEGORIES:sponsor
ATTACH;FMTTYPE=image/png:https://aswellstudio.com/wp-content/uploads/2025/08/remerciements-sponsoring-par-aswell-studio-isg-masters-days-4.0-16-et-17-avril-2025.png
END:VEVENT
END:VCALENDAR